BEGIN:VCALENDAR
VERSION:2.0
PRODID:-//Enzian Schuhplattler - ECPv6.15.20//NONSGML v1.0//EN
CALSCALE:GREGORIAN
METHOD:PUBLISH
X-ORIGINAL-URL:https://enzianschuhplattler.com
X-WR-CALDESC:Events for Enzian Schuhplattler
REFRESH-INTERVAL;VALUE=DURATION:PT1H
X-Robots-Tag:noindex
X-PUBLISHED-TTL:PT1H
BEGIN:VTIMEZONE
TZID:America/Los_Angeles
BEGIN:DAYLIGHT
TZOFFSETFROM:-0800
TZOFFSETTO:-0700
TZNAME:PDT
DTSTART:20160313T100000
END:DAYLIGHT
BEGIN:STANDARD
TZOFFSETFROM:-0700
TZOFFSETTO:-0800
TZNAME:PST
DTSTART:20161106T090000
END:STANDARD
BEGIN:DAYLIGHT
TZOFFSETFROM:-0800
TZOFFSETTO:-0700
TZNAME:PDT
DTSTART:20170312T100000
END:DAYLIGHT
BEGIN:STANDARD
TZOFFSETFROM:-0700
TZOFFSETTO:-0800
TZNAME:PST
DTSTART:20171105T090000
END:STANDARD
BEGIN:DAYLIGHT
TZOFFSETFROM:-0800
TZOFFSETTO:-0700
TZNAME:PDT
DTSTART:20180311T100000
END:DAYLIGHT
BEGIN:STANDARD
TZOFFSETFROM:-0700
TZOFFSETTO:-0800
TZNAME:PST
DTSTART:20181104T090000
END:STANDARD
END:VTIMEZONE
BEGIN:VEVENT
DTSTART;TZID=America/Los_Angeles:20171029T120000
DTEND;TZID=America/Los_Angeles:20171029T130000
DTSTAMP:20260425T191444
CREATED:20170222T000957Z
LAST-MODIFIED:20220428T170417Z
UID:1205-1509278400-1509282000@enzianschuhplattler.com
SUMMARY:First Lutheran Church 2017
DESCRIPTION:Celebration of the 500th anniversary of the Reformation in Germany.
URL:https://enzianschuhplattler.com/event/first-lutheran-church/
LOCATION:First Lutheran Church of West Seattle\, 4105 California Ave SW\, West Seattle\, WA\, 98116\, United States
CATEGORIES:Performance
END:VEVENT
END:VCALENDAR