BEGIN:VCALENDAR
VERSION:2.0
PRODID:-//Enzian Schuhplattler - ECPv6.15.20//NONSGML v1.0//EN
CALSCALE:GREGORIAN
METHOD:PUBLISH
X-ORIGINAL-URL:https://enzianschuhplattler.com
X-WR-CALDESC:Events for Enzian Schuhplattler
REFRESH-INTERVAL;VALUE=DURATION:PT1H
X-Robots-Tag:noindex
X-PUBLISHED-TTL:PT1H
BEGIN:VTIMEZONE
TZID:America/Los_Angeles
BEGIN:DAYLIGHT
TZOFFSETFROM:-0800
TZOFFSETTO:-0700
TZNAME:PDT
DTSTART:20180311T100000
END:DAYLIGHT
BEGIN:STANDARD
TZOFFSETFROM:-0700
TZOFFSETTO:-0800
TZNAME:PST
DTSTART:20181104T090000
END:STANDARD
BEGIN:DAYLIGHT
TZOFFSETFROM:-0800
TZOFFSETTO:-0700
TZNAME:PDT
DTSTART:20190310T100000
END:DAYLIGHT
BEGIN:STANDARD
TZOFFSETFROM:-0700
TZOFFSETTO:-0800
TZNAME:PST
DTSTART:20191103T090000
END:STANDARD
BEGIN:DAYLIGHT
TZOFFSETFROM:-0800
TZOFFSETTO:-0700
TZNAME:PDT
DTSTART:20200308T100000
END:DAYLIGHT
BEGIN:STANDARD
TZOFFSETFROM:-0700
TZOFFSETTO:-0800
TZNAME:PST
DTSTART:20201101T090000
END:STANDARD
END:VTIMEZONE
BEGIN:VEVENT
DTSTART;VALUE=DATE:20190504
DTEND;VALUE=DATE:20190505
DTSTAMP:20260424T192455
CREATED:20190116T215811Z
LAST-MODIFIED:20220428T170316Z
UID:2035-1556928000-1557014399@enzianschuhplattler.com
SUMMARY:TGLS Maifest 2019
DESCRIPTION:
URL:https://enzianschuhplattler.com/event/tgls-maifest-2019/
LOCATION:Tacoma German Language School\, 8211 112th St. SW\, Lakewood\, WA\, 98498\, United States
CATEGORIES:Performance
END:VEVENT
BEGIN:VEVENT
DTSTART;VALUE=DATE:20190504
DTEND;VALUE=DATE:20190505
DTSTAMP:20260424T192455
CREATED:20190222T000441Z
LAST-MODIFIED:20220428T170310Z
UID:2201-1556928000-1557014399@enzianschuhplattler.com
SUMMARY:Austria Club Maifest 2019
DESCRIPTION:Details available here:\nhttp://www.austriaclubwa.com/activities_upcoming.html
URL:https://enzianschuhplattler.com/event/austria-club-maifest-2019/
LOCATION:Kenmore Community Center\, 7304 NE 175th\, Kenmore\, WA\, 98028\, United States
CATEGORIES:Performance
END:VEVENT
END:VCALENDAR