BEGIN:VCALENDAR
VERSION:2.0
PRODID:-//Enzian Schuhplattler - ECPv6.15.20//NONSGML v1.0//EN
CALSCALE:GREGORIAN
METHOD:PUBLISH
X-WR-CALNAME:Enzian Schuhplattler
X-ORIGINAL-URL:https://enzianschuhplattler.com
X-WR-CALDESC:Events for Enzian Schuhplattler
REFRESH-INTERVAL;VALUE=DURATION:PT1H
X-Robots-Tag:noindex
X-PUBLISHED-TTL:PT1H
BEGIN:VTIMEZONE
TZID:America/Los_Angeles
BEGIN:DAYLIGHT
TZOFFSETFROM:-0800
TZOFFSETTO:-0700
TZNAME:PDT
DTSTART:20180311T100000
END:DAYLIGHT
BEGIN:STANDARD
TZOFFSETFROM:-0700
TZOFFSETTO:-0800
TZNAME:PST
DTSTART:20181104T090000
END:STANDARD
BEGIN:DAYLIGHT
TZOFFSETFROM:-0800
TZOFFSETTO:-0700
TZNAME:PDT
DTSTART:20190310T100000
END:DAYLIGHT
BEGIN:STANDARD
TZOFFSETFROM:-0700
TZOFFSETTO:-0800
TZNAME:PST
DTSTART:20191103T090000
END:STANDARD
BEGIN:DAYLIGHT
TZOFFSETFROM:-0800
TZOFFSETTO:-0700
TZNAME:PDT
DTSTART:20200308T100000
END:DAYLIGHT
BEGIN:STANDARD
TZOFFSETFROM:-0700
TZOFFSETTO:-0800
TZNAME:PST
DTSTART:20201101T090000
END:STANDARD
END:VTIMEZONE
BEGIN:VEVENT
DTSTART;VALUE=DATE:20191012
DTEND;VALUE=DATE:20191013
DTSTAMP:20260424T124038
CREATED:20191007T044824Z
LAST-MODIFIED:20220428T170250Z
UID:3552-1570838400-1570924799@enzianschuhplattler.com
SUMMARY:Leavenworth Oktoberfest 2019
DESCRIPTION:Enzian will be performing at Leavenworth Oktoberfest.
URL:https://enzianschuhplattler.com/event/leavenworth-oktoberfest-2019-1/
LOCATION:Leavenworth Oktoberfest\, 1001 Front St\, Leavenworth\, WA\, 98826\, United States
CATEGORIES:Performance
END:VEVENT
BEGIN:VEVENT
DTSTART;VALUE=DATE:20191012
DTEND;VALUE=DATE:20191013
DTSTAMP:20260424T124038
CREATED:20191007T045333Z
LAST-MODIFIED:20220428T170245Z
UID:3556-1570838400-1570924799@enzianschuhplattler.com
SUMMARY:EGLS Oktoberfest 2019
DESCRIPTION:Enzian will be performing for the Eastside German Language School’s Oktoberfest celebration.
URL:https://enzianschuhplattler.com/event/egls-oktoberfest-2019/
LOCATION:WA
CATEGORIES:Performance
END:VEVENT
END:VCALENDAR