BEGIN:VCALENDAR
VERSION:2.0
PRODID:-//Enzian Schuhplattler - ECPv6.15.20//NONSGML v1.0//EN
CALSCALE:GREGORIAN
METHOD:PUBLISH
X-ORIGINAL-URL:https://enzianschuhplattler.com
X-WR-CALDESC:Events for Enzian Schuhplattler
REFRESH-INTERVAL;VALUE=DURATION:PT1H
X-Robots-Tag:noindex
X-PUBLISHED-TTL:PT1H
BEGIN:VTIMEZONE
TZID:America/Los_Angeles
BEGIN:DAYLIGHT
TZOFFSETFROM:-0800
TZOFFSETTO:-0700
TZNAME:PDT
DTSTART:20230312T100000
END:DAYLIGHT
BEGIN:STANDARD
TZOFFSETFROM:-0700
TZOFFSETTO:-0800
TZNAME:PST
DTSTART:20231105T090000
END:STANDARD
BEGIN:DAYLIGHT
TZOFFSETFROM:-0800
TZOFFSETTO:-0700
TZNAME:PDT
DTSTART:20240310T100000
END:DAYLIGHT
BEGIN:STANDARD
TZOFFSETFROM:-0700
TZOFFSETTO:-0800
TZNAME:PST
DTSTART:20241103T090000
END:STANDARD
BEGIN:DAYLIGHT
TZOFFSETFROM:-0800
TZOFFSETTO:-0700
TZNAME:PDT
DTSTART:20250309T100000
END:DAYLIGHT
BEGIN:STANDARD
TZOFFSETFROM:-0700
TZOFFSETTO:-0800
TZNAME:PST
DTSTART:20251102T090000
END:STANDARD
BEGIN:DAYLIGHT
TZOFFSETFROM:-0800
TZOFFSETTO:-0700
TZNAME:PDT
DTSTART:20260308T100000
END:DAYLIGHT
BEGIN:STANDARD
TZOFFSETFROM:-0700
TZOFFSETTO:-0800
TZNAME:PST
DTSTART:20261101T090000
END:STANDARD
END:VTIMEZONE
BEGIN:VEVENT
DTSTART;VALUE=DATE:20241004
DTEND;VALUE=DATE:20241007
DTSTAMP:20260419T172104
CREATED:20240920T172558Z
LAST-MODIFIED:20240920T172558Z
UID:26736-1728000000-1728259199@enzianschuhplattler.com
SUMMARY:Oktoberfest NW 2024
DESCRIPTION:Enzian will be performing at Oktoberfest NW at the Western Washington Fairgrounds in Puyallup\, WA.
URL:https://enzianschuhplattler.com/event/oktoberfest-nw-2024/
LOCATION:Western Washington Fairgrounds\, 110 9th Avenue SW\, Puyallup\, WA\, 98371\, United States
CATEGORIES:Performance
END:VEVENT
BEGIN:VEVENT
DTSTART;VALUE=DATE:20241012
DTEND;VALUE=DATE:20241013
DTSTAMP:20260419T172104
CREATED:20240920T172804Z
LAST-MODIFIED:20240920T173031Z
UID:26738-1728691200-1728777599@enzianschuhplattler.com
SUMMARY:Leavenworth Oktoberfest 2024
DESCRIPTION:Enzian will be performing at Oktoberfest in Leavenworth.
URL:https://enzianschuhplattler.com/event/oktoberfest-in-leavenworth-2024-1/
LOCATION:Oktoberfest in Leavenworth\, 1001 Front St\, Leavenworth\, WA\, 98826\, United States
CATEGORIES:Performance
END:VEVENT
BEGIN:VEVENT
DTSTART;VALUE=DATE:20241019
DTEND;VALUE=DATE:20241020
DTSTAMP:20260419T172104
CREATED:20240920T172933Z
LAST-MODIFIED:20240920T173011Z
UID:26741-1729296000-1729382399@enzianschuhplattler.com
SUMMARY:Leavenworth Oktoberfest 2024
DESCRIPTION:Enzian will be performing at Oktoberfest in Leavenworth.
URL:https://enzianschuhplattler.com/event/oktoberfest-in-leavenworth-2024-2/
LOCATION:Oktoberfest in Leavenworth\, 1001 Front St\, Leavenworth\, WA\, 98826\, United States
CATEGORIES:Performance
END:VEVENT
BEGIN:VEVENT
DTSTART;VALUE=DATE:20241026
DTEND;VALUE=DATE:20241027
DTSTAMP:20260419T172104
CREATED:20240924T190823Z
LAST-MODIFIED:20240924T190823Z
UID:26784-1729900800-1729987199@enzianschuhplattler.com
SUMMARY:Private Event
DESCRIPTION:Enzian will be performing for a private event. Would you like to have us come perform for your private event? Contact us today!
URL:https://enzianschuhplattler.com/event/2024-10-24/
LOCATION:WA
END:VEVENT
BEGIN:VEVENT
DTSTART;TZID=America/Los_Angeles:20250607T170000
DTEND;TZID=America/Los_Angeles:20250607T230000
DTSTAMP:20260419T172104
CREATED:20250219T184434Z
LAST-MODIFIED:20250313T155930Z
UID:28913-1749315600-1749337200@enzianschuhplattler.com
SUMMARY:60th Anniversary Celebration!
DESCRIPTION:Enzian will be celebrating our 60th anniversary this year. Make plans to join us! \nDetails and tickets are available at the EventBrite link below: \nhttps://www.eventbrite.com/e/enzian-schuhplattler-60th-anniversary-tickets-1257260783849
URL:https://enzianschuhplattler.com/event/60th/
LOCATION:Metropolist Events\, 2931 1st Avenue South Suite A\, Seattle\, WA\, 98134
END:VEVENT
END:VCALENDAR