BEGIN:VCALENDAR
VERSION:2.0
PRODID:-//Enzian Schuhplattler - ECPv6.15.20//NONSGML v1.0//EN
CALSCALE:GREGORIAN
METHOD:PUBLISH
X-WR-CALNAME:Enzian Schuhplattler
X-ORIGINAL-URL:https://enzianschuhplattler.com
X-WR-CALDESC:Events for Enzian Schuhplattler
REFRESH-INTERVAL;VALUE=DURATION:PT1H
X-Robots-Tag:noindex
X-PUBLISHED-TTL:PT1H
BEGIN:VTIMEZONE
TZID:America/Los_Angeles
BEGIN:DAYLIGHT
TZOFFSETFROM:-0800
TZOFFSETTO:-0700
TZNAME:PDT
DTSTART:20150308T100000
END:DAYLIGHT
BEGIN:STANDARD
TZOFFSETFROM:-0700
TZOFFSETTO:-0800
TZNAME:PST
DTSTART:20151101T090000
END:STANDARD
BEGIN:DAYLIGHT
TZOFFSETFROM:-0800
TZOFFSETTO:-0700
TZNAME:PDT
DTSTART:20160313T100000
END:DAYLIGHT
BEGIN:STANDARD
TZOFFSETFROM:-0700
TZOFFSETTO:-0800
TZNAME:PST
DTSTART:20161106T090000
END:STANDARD
BEGIN:DAYLIGHT
TZOFFSETFROM:-0800
TZOFFSETTO:-0700
TZNAME:PDT
DTSTART:20170312T100000
END:DAYLIGHT
BEGIN:STANDARD
TZOFFSETFROM:-0700
TZOFFSETTO:-0800
TZNAME:PST
DTSTART:20171105T090000
END:STANDARD
END:VTIMEZONE
BEGIN:VEVENT
DTSTART;VALUE=DATE:20160514
DTEND;VALUE=DATE:20160516
DTSTAMP:20260422T155028
CREATED:20160521T181924Z
LAST-MODIFIED:20220428T170621Z
UID:540-1463184000-1463356799@enzianschuhplattler.com
SUMMARY:Leavenworth Maifest 2016
DESCRIPTION:Maifest in Leavenworth is twice as special this year as Enzian Schuhplattler will be performing along with the Tirolean Dancers of Portland\, Oregon. \n\n 
URL:https://enzianschuhplattler.com/event/leavenworth-maifest-2016/
LOCATION:Leavenworth Gazebo\, 800 Front St\, Leavenworth\, WA\, 98826\, United States
CATEGORIES:Performance
END:VEVENT
END:VCALENDAR