BEGIN:VCALENDAR
VERSION:2.0
PRODID:-//Enzian Schuhplattler - ECPv6.15.20//NONSGML v1.0//EN
CALSCALE:GREGORIAN
METHOD:PUBLISH
X-WR-CALNAME:Enzian Schuhplattler
X-ORIGINAL-URL:https://enzianschuhplattler.com
X-WR-CALDESC:Events for Enzian Schuhplattler
REFRESH-INTERVAL;VALUE=DURATION:PT1H
X-Robots-Tag:noindex
X-PUBLISHED-TTL:PT1H
BEGIN:VTIMEZONE
TZID:America/Los_Angeles
BEGIN:DAYLIGHT
TZOFFSETFROM:-0800
TZOFFSETTO:-0700
TZNAME:PDT
DTSTART:20150308T100000
END:DAYLIGHT
BEGIN:STANDARD
TZOFFSETFROM:-0700
TZOFFSETTO:-0800
TZNAME:PST
DTSTART:20151101T090000
END:STANDARD
BEGIN:DAYLIGHT
TZOFFSETFROM:-0800
TZOFFSETTO:-0700
TZNAME:PDT
DTSTART:20160313T100000
END:DAYLIGHT
BEGIN:STANDARD
TZOFFSETFROM:-0700
TZOFFSETTO:-0800
TZNAME:PST
DTSTART:20161106T090000
END:STANDARD
BEGIN:DAYLIGHT
TZOFFSETFROM:-0800
TZOFFSETTO:-0700
TZNAME:PDT
DTSTART:20170312T100000
END:DAYLIGHT
BEGIN:STANDARD
TZOFFSETFROM:-0700
TZOFFSETTO:-0800
TZNAME:PST
DTSTART:20171105T090000
END:STANDARD
END:VTIMEZONE
BEGIN:VEVENT
DTSTART;VALUE=DATE:20160521
DTEND;VALUE=DATE:20160522
DTSTAMP:20260422T044010
CREATED:20160521T235606Z
LAST-MODIFIED:20220428T170613Z
UID:616-1463788800-1463875199@enzianschuhplattler.com
SUMMARY:TGLS Maifest 2016
DESCRIPTION:Enzian performs at 11:00am \n\n41
URL:https://enzianschuhplattler.com/event/tgls-maifest/
LOCATION:Tacoma German Language School\, 8211 112th St. SW\, Lakewood\, WA\, 98498\, United States
CATEGORIES:Performance
END:VEVENT
BEGIN:VEVENT
DTSTART;TZID=America/Los_Angeles:20160514T130000
DTEND;TZID=America/Los_Angeles:20160514T170000
DTSTAMP:20260422T044010
CREATED:20160522T001317Z
LAST-MODIFIED:20220428T170616Z
UID:618-1463230800-1463245200@enzianschuhplattler.com
SUMMARY:Austria Club Maifest 2016
DESCRIPTION:Maifest 2016 presented by the Austria Club of Washington \nOffering an authentic experience\, Trachten and traditional folk costumes are encouraged for all; casual wear OK. Dance\, sing\, eat\, and enjoy good company.\n \nOrder Tickets (2 options): \n\nVia Credit Card through maifest2016.brownpapertickets.com\nBy Check payable to Austria Club of Washington.\nMail checks to Rosie Mulholland\, 11737 5th Ave NE C\, Seattle WA 98125\n\nThis is a potluck\, so plan to bring a dish to share. Those whose last names start with A-H please bring desserts. Guests whose last names begin with I-Z provide salads or side dishes. Beverages available for purchase at moderate prices.\nThe club will contribute Weißwurst and Frankfurter plus condiments\, coffee\, tea and water. \n\n 
URL:https://enzianschuhplattler.com/event/austria-club-maifest/
LOCATION:Kenmore Community Center\, 7304 NE 175th\, Kenmore\, WA\, 98028\, United States
CATEGORIES:Performance
END:VEVENT
BEGIN:VEVENT
DTSTART;VALUE=DATE:20160514
DTEND;VALUE=DATE:20160516
DTSTAMP:20260422T044010
CREATED:20160521T181924Z
LAST-MODIFIED:20220428T170621Z
UID:540-1463184000-1463356799@enzianschuhplattler.com
SUMMARY:Leavenworth Maifest 2016
DESCRIPTION:Maifest in Leavenworth is twice as special this year as Enzian Schuhplattler will be performing along with the Tirolean Dancers of Portland\, Oregon. \n\n 
URL:https://enzianschuhplattler.com/event/leavenworth-maifest-2016/
LOCATION:Leavenworth Gazebo\, 800 Front St\, Leavenworth\, WA\, 98826\, United States
CATEGORIES:Performance
END:VEVENT
END:VCALENDAR