BEGIN:VCALENDAR
VERSION:2.0
PRODID:-//Enzian Schuhplattler - ECPv6.15.20//NONSGML v1.0//EN
CALSCALE:GREGORIAN
METHOD:PUBLISH
X-WR-CALNAME:Enzian Schuhplattler
X-ORIGINAL-URL:https://enzianschuhplattler.com
X-WR-CALDESC:Events for Enzian Schuhplattler
REFRESH-INTERVAL;VALUE=DURATION:PT1H
X-Robots-Tag:noindex
X-PUBLISHED-TTL:PT1H
BEGIN:VTIMEZONE
TZID:America/Los_Angeles
BEGIN:DAYLIGHT
TZOFFSETFROM:-0800
TZOFFSETTO:-0700
TZNAME:PDT
DTSTART:20210314T100000
END:DAYLIGHT
BEGIN:STANDARD
TZOFFSETFROM:-0700
TZOFFSETTO:-0800
TZNAME:PST
DTSTART:20211107T090000
END:STANDARD
BEGIN:DAYLIGHT
TZOFFSETFROM:-0800
TZOFFSETTO:-0700
TZNAME:PDT
DTSTART:20220313T100000
END:DAYLIGHT
BEGIN:STANDARD
TZOFFSETFROM:-0700
TZOFFSETTO:-0800
TZNAME:PST
DTSTART:20221106T090000
END:STANDARD
BEGIN:DAYLIGHT
TZOFFSETFROM:-0800
TZOFFSETTO:-0700
TZNAME:PDT
DTSTART:20230312T100000
END:DAYLIGHT
BEGIN:STANDARD
TZOFFSETFROM:-0700
TZOFFSETTO:-0800
TZNAME:PST
DTSTART:20231105T090000
END:STANDARD
END:VTIMEZONE
BEGIN:VEVENT
DTSTART;VALUE=DATE:20220430
DTEND;VALUE=DATE:20220501
DTSTAMP:20260422T194727
CREATED:20220428T155903Z
LAST-MODIFIED:20220428T163245Z
UID:12157-1651276800-1651363199@enzianschuhplattler.com
SUMMARY:TGLS Maifest 2022
DESCRIPTION:Enzian will be celebrating a traditional Maifest event with the Tacoma German Language School
URL:https://enzianschuhplattler.com/event/tgls-maifest-2022/
LOCATION:Tacoma German Language School\, 8211 112th St. SW\, Lakewood\, WA\, 98498\, United States
CATEGORIES:Performance
END:VEVENT
END:VCALENDAR